{
 "currentVersion": 10.91,
 "serviceDescription": "",
 "mapName": "Layers",
 "description": "",
 "copyrightText": "",
 "supportsDynamicLayers": false,
 "layers": [
  {
   "id": 0,
   "name": "ImageryExtent",
   "parentLayerId": -1,
   "defaultVisibility": false,
   "subLayerIds": null,
   "minScale": 0,
   "maxScale": 0,
   "type": "Feature Layer",
   "geometryType": "esriGeometryPolygon"
  }
 ],
 "tables": [],
 "spatialReference": {
  "wkid": 102100,
  "latestWkid": 3857
 },
 "singleFusedMapCache": true,
 "tileInfo": {
  "rows": 256,
  "cols": 256,
  "dpi": 96,
  "format": "MIXED",
  "compressionQuality": 80,
  "origin": {
   "x": -2.0037508342787E7,
   "y": 2.0037508342787E7
  },
  "spatialReference": {
   "wkid": 102100,
   "latestWkid": 3857
  },
  "lods": [
   {
    "level": 0,
    "resolution": 156543.03392800014,
    "scale": 5.91657527591555E8
   },
   {
    "level": 1,
    "resolution": 78271.51696400007,
    "scale": 2.958287637957775E8
   },
   {
    "level": 2,
    "resolution": 39135.758482000034,
    "scale": 1.4791438189788875E8
   },
   {
    "level": 3,
    "resolution": 19567.879241000017,
    "scale": 7.395719094894437E7
   },
   {
    "level": 4,
    "resolution": 9783.939620500008,
    "scale": 3.697859547447219E7
   },
   {
    "level": 5,
    "resolution": 4891.969810250004,
    "scale": 1.8489297737236094E7
   },
   {
    "level": 6,
    "resolution": 2445.984905125002,
    "scale": 9244648.868618047
   },
   {
    "level": 7,
    "resolution": 1222.992452562501,
    "scale": 4622324.434309023
   },
   {
    "level": 8,
    "resolution": 611.4962262812505,
    "scale": 2311162.2171545117
   },
   {
    "level": 9,
    "resolution": 305.74811314062526,
    "scale": 1155581.1085772559
   },
   {
    "level": 10,
    "resolution": 152.87405657031263,
    "scale": 577790.5542886279
   },
   {
    "level": 11,
    "resolution": 76.43702828515632,
    "scale": 288895.27714431396
   },
   {
    "level": 12,
    "resolution": 38.21851414257816,
    "scale": 144447.63857215698
   },
   {
    "level": 13,
    "resolution": 19.10925707128908,
    "scale": 72223.81928607849
   },
   {
    "level": 14,
    "resolution": 9.55462853564454,
    "scale": 36111.909643039246
   },
   {
    "level": 15,
    "resolution": 4.77731426782227,
    "scale": 18055.954821519623
   },
   {
    "level": 16,
    "resolution": 2.388657133911135,
    "scale": 9027.977410759811
   },
   {
    "level": 17,
    "resolution": 1.1943285669555674,
    "scale": 4513.988705379906
   },
   {
    "level": 18,
    "resolution": 0.5971642834777837,
    "scale": 2256.994352689953
   },
   {
    "level": 19,
    "resolution": 0.29858214173889186,
    "scale": 1128.4971763449764
   },
   {
    "level": 20,
    "resolution": 0.14929107086944593,
    "scale": 564.2485881724882
   },
   {
    "level": 21,
    "resolution": 0.07464553543472296,
    "scale": 282.1242940862441
   },
   {
    "level": 22,
    "resolution": 0.03732276771736148,
    "scale": 141.06214704312205
   }
  ]
 },
 "initialExtent": {
  "xmin": -9361460.755022094,
  "ymin": 4899728.705458554,
  "xmax": -9187830.526894782,
  "ymax": 4970185.14334019,
  "spatialReference": {
   "wkid": 102100,
   "latestWkid": 3857
  }
 },
 "fullExtent": {
  "xmin": -9269229.639499443,
  "ymin": 4829368.873941747,
  "xmax": -9205039.992578024,
  "ymax": 4930066.845478879,
  "spatialReference": {
   "wkid": 102100,
   "latestWkid": 3857
  }
 },
 "minScale": 5.91657527591555E8,
 "maxScale": 141.06214704312205,
 "units": "esriMeters",
 "supportedImageFormatTypes": "PNG32,PNG24,PNG,JPG,DIB,TIFF,EMF,PS,PDF,GIF,SVG,SVGZ,BMP",
 "documentInfo": {
  "Title": "",
  "Author": "",
  "Comments": "",
  "Subject": "",
  "Category": "",
  "AntialiasingMode": "None",
  "TextAntialiasingMode": "Force",
  "Keywords": "2023 Imagery"
 },
 "capabilities": "Map,Query,Data",
 "supportedQueryFormats": "JSON, geoJSON",
 "exportTilesAllowed": false,
 "referenceScale": 0,
 "datumTransformations": [
  {
   "geoTransforms": [
    {
     "wkid": 108363,
     "latestWkid": 108363,
     "transformForward": false,
     "name": "WGS_1984_(ITRF08)_To_NAD_1983_2011"
    }
   ]
  },
  {
   "geoTransforms": [
    {
     "wkid": 108363,
     "latestWkid": 108363,
     "transformForward": true,
     "name": "WGS_1984_(ITRF08)_To_NAD_1983_2011"
    }
   ]
  }
 ],
 "supportsDatumTransformation": true,
 "maxRecordCount": 1000,
 "maxImageHeight": 4096,
 "maxImageWidth": 4096,
 "supportedExtensions": "WMSServer",
 "resampling": false
}
